BEGIN:VCALENDAR
VERSION:2.0
PRODID:-// - ECPv6.1.3//NONSGML v1.0//EN
CALSCALE:GREGORIAN
METHOD:PUBLISH
X-ORIGINAL-URL:https://litkultur.uni-frankfurt.de
X-WR-CALDESC:Veranstaltungen für 
REFRESH-INTERVAL;VALUE=DURATION:PT1H
X-Robots-Tag:noindex
X-PUBLISHED-TTL:PT1H
BEGIN:VTIMEZONE
TZID:Europe/Helsinki
BEGIN:DAYLIGHT
TZOFFSETFROM:+0200
TZOFFSETTO:+0300
TZNAME:EEST
DTSTART:20250330T010000
END:DAYLIGHT
BEGIN:STANDARD
TZOFFSETFROM:+0300
TZOFFSETTO:+0200
TZNAME:EET
DTSTART:20251026T010000
END:STANDARD
END:VTIMEZONE
BEGIN:VEVENT
DTSTART;VALUE=DATE:20250524
DTEND;VALUE=DATE:20250525
DTSTAMP:20260423T160001
CREATED:20250527T104009Z
LAST-MODIFIED:20250527T104025Z
UID:924-1748044800-1748131199@litkultur.uni-frankfurt.de
SUMMARY:Exkursion zur Burg Wildenberg
DESCRIPTION:Im Rahmen des Seminars „Von ‚Parzival‘ zu ‚Parsifal‘: Wolframs Artusroman und Wagners Bühnenweihfestspiel“ findet am 24. Juni 2025 eine Exkursion zur Burg Wildenberg (Amorbach) statt\, in der Wolfram von Eschenbach Teile seines Romans geschrieben haben soll. Vor allem aber hat sie ihm wohl auch als Vorlage für die Gralsburg Munsalvaesche gedient\, in der im ‚Parzival‘ der heilige Gral aufbewahrt und von der Gemeinschaft der Gralshüter bewacht wird. \nAm Morgen werden wir uns dort zusammenfinden und zunächst eine Führung durch die Burg erhalten. Daraufhin wollen wir in den Ruinen der (Grals)Burg\, also an jenem Ort\, duch den sich Wofram vor gut 800 Jahren zu seinem großen ‚Klassiker‘ hat inspirieren  lassen\, einschlägige Textpassagen miteinander lesen und diskutieren.
URL:https://litkultur.uni-frankfurt.de/event/exkursion-burg-wildenberg/
LOCATION:Hessen
END:VEVENT
BEGIN:VEVENT
DTSTART;TZID=Europe/Helsinki:20250527T140000
DTEND;TZID=Europe/Helsinki:20250527T180000
DTSTAMP:20260423T160001
CREATED:20250428T151530Z
LAST-MODIFIED:20250428T151530Z
UID:912-1748354400-1748368800@litkultur.uni-frankfurt.de
SUMMARY:Workshop: „Literaturwissenschaft – und dann?“
DESCRIPTION:Im Rahmen des Tutoriums im Germanistikstudium der Goethe-Universität\, das für die Neuere deutsche Literatur stattfindet\, veranstalten wir den Workshop „Literaturwissenschaft – und dann?“\, der verschiedene berufliche Zukunftsperspektiven eines Studiums in der Literaturwissenschaft aufzeigt. \nDer Workshop ist von Studierenden für Studierende gestaltet und beinhaltet sechs spannende und lehrreiche Gastvorträge. \nGeladene Gäste aus verschiedenen Branchen geben Einblicke in ihre tägliche Arbeit und bringen die Inhalte des Studiums einer Literaturwissenschaft mit einem Praxisbezug in Verbindung. \nMit dabei sind: \n\nLena Fahrländer vom Literaturhaus Frankfurt aus der Presse- und Öffentlichkeitsarbeit und zuständig für Social-Media\nAnna Yeliz-Schentke und Nicola Menzel aus dem Bereich der Arbeit an der Uni\nJuliane Homann von der F.A.Z. Media Group aus der Marketing und Event Branche\nGioia Frey von der CREA-Factory aus dem Bereich des Projektmanagements\nThilo Frey von der SUI GENERIS GmbH zum Thema persönliche Produktivität und Weiterentwicklung\n\nDas anschließende World-Café schafft Raum für angeregte Unterhaltungen und offene Fragen. \n  \nDieses Sommersemester findet der Workshop am 27.05. von 14 bis 18 Uhr am Campus Westend der Goethe Universität statt. \nEine Anmeldung ist nicht notwendig\, wir freuen uns\, wenn Interessierte diesen Workshop zum Netzwerken nutzen können. \n 
URL:https://litkultur.uni-frankfurt.de/event/workshop-literaturwissenschaft-und-dann/
LOCATION:campus westend\, Campus Westend\, Theodor-W.-Adorno-Platz 1\, Frankfurt am Main\, Hessen\, 64625\, Deutschland
END:VEVENT
END:VCALENDAR