BEGIN:VCALENDAR
VERSION:2.0
PRODID:-// - ECPv6.1.3//NONSGML v1.0//EN
CALSCALE:GREGORIAN
METHOD:PUBLISH
X-ORIGINAL-URL:https://litkultur.uni-frankfurt.de
X-WR-CALDESC:Veranstaltungen für 
REFRESH-INTERVAL;VALUE=DURATION:PT1H
X-Robots-Tag:noindex
X-PUBLISHED-TTL:PT1H
BEGIN:VTIMEZONE
TZID:Europe/Helsinki
BEGIN:DAYLIGHT
TZOFFSETFROM:+0200
TZOFFSETTO:+0300
TZNAME:EEST
DTSTART:20250330T010000
END:DAYLIGHT
BEGIN:STANDARD
TZOFFSETFROM:+0300
TZOFFSETTO:+0200
TZNAME:EET
DTSTART:20251026T010000
END:STANDARD
END:VTIMEZONE
BEGIN:VEVENT
DTSTART;TZID=Europe/Helsinki:20250425T110000
DTEND;TZID=Europe/Helsinki:20250425T200000
DTSTAMP:20260421T083803
CREATED:20250417T133212Z
LAST-MODIFIED:20250521T105331Z
UID:900-1745578800-1745611200@litkultur.uni-frankfurt.de
SUMMARY:Hey Guten Morgen\, wie Geht Es Dir? Lesung & Workshop
DESCRIPTION:Bezüglich des Buchpreises 2024 freuen wir uns darauf\, Martina Hefter an der Goethe-Universität Frankfurt begrüßen zu dürfen! \nIm zweistöckigen Goethe-Lesesaal des Bibliothekzentrums Geisteswissenschaften (IG 1.121) wird uns Martina Hefter zunächst selbst ausgewählte Stellen ihres Romans „Hey guten Morgen\, wie geht es dir“ vorlesen und anschließend mit uns gemeinsam über den Roman sprechen. Dabei werden die Studentinnen Clara Schumacher und Ruth Lindner das Gespräch führen und im Laufe des Abends für Fragen aus dem Publikum öffnen. \nIm Anschluss laden wir herzlich zu einem kleinen Empfang in den Räumlichkeiten des Forschungszentrums Historische Geisteswissenschaften (IG 1.414). \n  \n\n\nOrganisation: Studiengruppe Ästhetik (vertreten durch Clara Schumacher\, Ruth Lindner und Jonathan Pernaß). \n\nWeiter Informationen: https://masteraesthetik.de/news/ankuendigung-workshop-und-lesung-zu-und-von-buchpreistraegerin-martina-hefter/ \n  \n \n  \n   \n  \n 
URL:https://litkultur.uni-frankfurt.de/event/hey-guten-morgen-wie-geht-es-dir-lesung-workshop/
LOCATION:Goethe Universität\, IG 1.414\, Norbert-Wollheim-Platz 1\, Frankfurt am Main\, Hessen\, 60323\, Deutschland
CATEGORIES:LitTalk
END:VEVENT
END:VCALENDAR